BEGIN:VCALENDAR
VERSION:2.0
PRODID:-//ConVerve GmbH//B2BMatch//EN
METHOD:PUBLISH
BEGIN:VEVENT
DTSTART:20251121T060000Z
DTEND:20251121T220000Z
SUMMARY:Visit Norway | High-end workshop London 2025
LOCATION:The Conduit
DESCRIPTION:
UID:0000001
DTSTAMP:20180215T145139Z
END:VEVENT
END:VCALENDAR
